BEGIN:VCALENDAR
VERSION:2.0
PRODID:-//Queensland Veteran Golf Union - ECPv6.13.2.1//NONSGML v1.0//EN
CALSCALE:GREGORIAN
METHOD:PUBLISH
X-WR-CALNAME:Queensland Veteran Golf Union
X-ORIGINAL-URL:https://www.qvgu.com.au
X-WR-CALDESC:Events for Queensland Veteran Golf Union
REFRESH-INTERVAL;VALUE=DURATION:PT1H
X-Robots-Tag:noindex
X-PUBLISHED-TTL:PT1H
BEGIN:VTIMEZONE
TZID:Australia/Brisbane
BEGIN:STANDARD
TZOFFSETFROM:+1000
TZOFFSETTO:+1000
TZNAME:AEST
DTSTART:20250101T000000
END:STANDARD
END:VTIMEZONE
BEGIN:VEVENT
DTSTART;VALUE=DATE:20250707
DTEND;VALUE=DATE:20250709
DTSTAMP:20260424T003827
CREATED:20250507T074034Z
LAST-MODIFIED:20250507T074034Z
UID:1834-1751846400-1752019199@www.qvgu.com.au
SUMMARY:Maryborough 2 Day Open Carnival
DESCRIPTION:
URL:https://www.qvgu.com.au/event/maryborough-2-day-open-carnival/
LOCATION:QLD
CATEGORIES:District Open Events
END:VEVENT
END:VCALENDAR