BEGIN:VCALENDAR
VERSION:2.0
PRODID:-//Queensland Veteran Golf Union - ECPv6.13.2.1//NONSGML v1.0//EN
CALSCALE:GREGORIAN
METHOD:PUBLISH
X-ORIGINAL-URL:https://www.qvgu.com.au
X-WR-CALDESC:Events for Queensland Veteran Golf Union
REFRESH-INTERVAL;VALUE=DURATION:PT1H
X-Robots-Tag:noindex
X-PUBLISHED-TTL:PT1H
BEGIN:VTIMEZONE
TZID:Australia/Brisbane
BEGIN:STANDARD
TZOFFSETFROM:+1000
TZOFFSETTO:+1000
TZNAME:AEST
DTSTART:20250101T000000
END:STANDARD
END:VTIMEZONE
BEGIN:VEVENT
DTSTART;VALUE=DATE:20250818
DTEND;VALUE=DATE:20250826
DTSTAMP:20260423T230927
CREATED:20250507T072751Z
LAST-MODIFIED:20250507T072751Z
UID:1803-1755475200-1756166399@www.qvgu.com.au
SUMMARY:Tropic of Capricorn Carnival
DESCRIPTION:Carnival Flyer – Please Click Here        Nomination Form – Please Click Here
URL:https://www.qvgu.com.au/event/tropic-of-capricorn-carnival/
LOCATION:QLD
CATEGORIES:Tournaments
ORGANIZER;CN="Ron Roberts":MAILTO:ronroberts28@bigpond.com
END:VEVENT
END:VCALENDAR