BEGIN:VCALENDAR
VERSION:2.0
PRODID:-//Queensland Veteran Golf Union - ECPv6.13.2.1//NONSGML v1.0//EN
CALSCALE:GREGORIAN
METHOD:PUBLISH
X-WR-CALNAME:Queensland Veteran Golf Union
X-ORIGINAL-URL:https://www.qvgu.com.au
X-WR-CALDESC:Events for Queensland Veteran Golf Union
REFRESH-INTERVAL;VALUE=DURATION:PT1H
X-Robots-Tag:noindex
X-PUBLISHED-TTL:PT1H
BEGIN:VTIMEZONE
TZID:Australia/Brisbane
BEGIN:STANDARD
TZOFFSETFROM:+1000
TZOFFSETTO:+1000
TZNAME:AEST
DTSTART:20260101T000000
END:STANDARD
END:VTIMEZONE
BEGIN:VEVENT
DTSTART;VALUE=DATE:20260810
DTEND;VALUE=DATE:20260812
DTSTAMP:20260424T044347
CREATED:20260201T002847Z
LAST-MODIFIED:20260213T233248Z
UID:2283-1786320000-1786492799@www.qvgu.com.au
SUMMARY:Mackay Open
DESCRIPTION:These two days are part of “Wintersun” which is conducted in the Mackay Area from 3rd to 11th August 2026. \nGames are held at Proserpine\, Sarina\, Pioneer Valley & Mackay Clubs.  See https://www.mackayveteransgolf.org.au/wintersun_redo/ for more information.
URL:https://www.qvgu.com.au/event/mackay-open/
LOCATION:Mackay Golf Club\, Mackay Bucasia Road\, Beaconsfield\, Qld\, 4740\, Australia
CATEGORIES:District Open Events
ATTACH;FMTTYPE=image/jpeg:https://www.qvgu.com.au/wp-content/uploads/2026/02/Mackay-Clubhouse.jpg
END:VEVENT
END:VCALENDAR