BEGIN:VCALENDAR
VERSION:2.0
PRODID:-//Queensland Veteran Golf Union - ECPv6.13.2.1//NONSGML v1.0//EN
CALSCALE:GREGORIAN
METHOD:PUBLISH
X-ORIGINAL-URL:https://www.qvgu.com.au
X-WR-CALDESC:Events for Queensland Veteran Golf Union
REFRESH-INTERVAL;VALUE=DURATION:PT1H
X-Robots-Tag:noindex
X-PUBLISHED-TTL:PT1H
BEGIN:VTIMEZONE
TZID:Australia/Brisbane
BEGIN:STANDARD
TZOFFSETFROM:+1000
TZOFFSETTO:+1000
TZNAME:AEST
DTSTART:20260101T000000
END:STANDARD
END:VTIMEZONE
BEGIN:VEVENT
DTSTART;VALUE=DATE:20261018
DTEND;VALUE=DATE:20261020
DTSTAMP:20260424T074007
CREATED:20251126T070652Z
LAST-MODIFIED:20251126T071027Z
UID:2201-1792281600-1792454399@www.qvgu.com.au
SUMMARY:Q.V.G.U. State Carnival
DESCRIPTION:More information will be available mid May 2026.
URL:https://www.qvgu.com.au/event/q-v-g-u-state-carnival-2/
LOCATION:Hervey Bay Golf Club\, Tooth Street\, Pialba\, QLD\, 4655\, Australia
ATTACH;FMTTYPE=image/jpeg:https://www.qvgu.com.au/wp-content/uploads/2025/11/Hervey-Bay-18th-Green.jpg
END:VEVENT
END:VCALENDAR