BEGIN:VCALENDAR
VERSION:2.0
PRODID:-//Queensland Veteran Golf Union - ECPv6.13.2.1//NONSGML v1.0//EN
CALSCALE:GREGORIAN
METHOD:PUBLISH
X-ORIGINAL-URL:https://www.qvgu.com.au
X-WR-CALDESC:Events for Queensland Veteran Golf Union
REFRESH-INTERVAL;VALUE=DURATION:PT1H
X-Robots-Tag:noindex
X-PUBLISHED-TTL:PT1H
BEGIN:VTIMEZONE
TZID:Australia/Brisbane
BEGIN:STANDARD
TZOFFSETFROM:+1000
TZOFFSETTO:+1000
TZNAME:AEST
DTSTART:20250101T000000
END:STANDARD
END:VTIMEZONE
BEGIN:VEVENT
DTSTART;VALUE=DATE:20250828
DTEND;VALUE=DATE:20250912
DTSTAMP:20260423T213459
CREATED:20250507T072918Z
LAST-MODIFIED:20250507T073023Z
UID:1806-1756339200-1757635199@www.qvgu.com.au
SUMMARY:Wide Bay Spring Carnival
DESCRIPTION:Conditions of Play – Please Click Here     Nomination Form – Please Click Here
URL:https://www.qvgu.com.au/event/wide-bay-spring-carnival/
LOCATION:QLD
CATEGORIES:Tournaments
ORGANIZER;CN="Wendy Mathiesen":MAILTO:wbsc.convenor@outlook.com
END:VEVENT
BEGIN:VEVENT
DTSTART;VALUE=DATE:20250831
DTEND;VALUE=DATE:20250906
DTSTAMP:20260423T213459
CREATED:20250507T063601Z
LAST-MODIFIED:20250507T072343Z
UID:1797-1756598400-1757116799@www.qvgu.com.au
SUMMARY:A.V.G.U. National Championships –  Darwin
DESCRIPTION:More information & Nomination Form – Please Click –  https://avguchampionship2025.com.au/
URL:https://www.qvgu.com.au/event/a-v-g-u-national-championships-darwin/
LOCATION:QLD
CATEGORIES:Championships
END:VEVENT
BEGIN:VEVENT
DTSTART;VALUE=DATE:20251020
DTEND;VALUE=DATE:20251022
DTSTAMP:20260423T213459
CREATED:20250507T063409Z
LAST-MODIFIED:20250619T004614Z
UID:1795-1760918400-1761091199@www.qvgu.com.au
SUMMARY:Q.V.G.U. State Carnival – Bargara
DESCRIPTION:Nomination Form now available – See Championship Page for more details.
URL:https://www.qvgu.com.au/event/q-v-g-u-state-carnival-bargara/
LOCATION:Bargara Golf Club\, 120 Miller Street\, Bargara\, Queensland\, 4670\, Australia
CATEGORIES:Championships
ORGANIZER;CN="Sue Gaylard":MAILTO:bargaraveterangolfers@outlook.com
END:VEVENT
BEGIN:VEVENT
DTSTART;VALUE=DATE:20260302
DTEND;VALUE=DATE:20260304
DTSTAMP:20260423T213459
CREATED:20251126T005755Z
LAST-MODIFIED:20260227T105615Z
UID:2133-1772409600-1772582399@www.qvgu.com.au
SUMMARY:Bargara 2 Day Classic
DESCRIPTION:Nomination Information out soon.
URL:https://www.qvgu.com.au/event/bargara-2-day-classic/
LOCATION:Bargara Golf Club\, 120 Miller Street\, Bargara\, Queensland\, 4670\, Australia
CATEGORIES:Tournaments
ATTACH;FMTTYPE=image/webp:https://www.qvgu.com.au/wp-content/uploads/2025/11/bargara-logo-2.webp
END:VEVENT
BEGIN:VEVENT
DTSTART;VALUE=DATE:20260310
DTEND;VALUE=DATE:20260311
DTSTAMP:20260423T213459
CREATED:20251126T011512Z
LAST-MODIFIED:20260308T045525Z
UID:2137-1773100800-1773187199@www.qvgu.com.au
SUMMARY:Gayndah Open
DESCRIPTION:The event has been postponned because of ongoing heavy rainfall in the area.  New date to be advised.
URL:https://www.qvgu.com.au/event/gayndah-open/
LOCATION:Gayndah Golf Club\, Nanango Road\, Gayndah\, QLD\, 4625\, Australia
CATEGORIES:Tournaments
ATTACH;FMTTYPE=image/jpeg:https://www.qvgu.com.au/wp-content/uploads/2025/11/Gayndah-Golf-Club.jpg
END:VEVENT
BEGIN:VEVENT
DTSTART;VALUE=DATE:20260311
DTEND;VALUE=DATE:20260312
DTSTAMP:20260423T213459
CREATED:20251126T011707Z
LAST-MODIFIED:20260308T045554Z
UID:2140-1773187200-1773273599@www.qvgu.com.au
SUMMARY:Gayndah 4BBB
DESCRIPTION:The event has been cancelled due to ongoing heavy rainfall in the area.  New date to be advised.
URL:https://www.qvgu.com.au/event/gayndah-4bbb/
LOCATION:Gayndah Golf Club\, Nanango Road\, Gayndah\, QLD\, 4625\, Australia
CATEGORIES:Tournaments
ATTACH;FMTTYPE=image/jpeg:https://www.qvgu.com.au/wp-content/uploads/2025/11/Gayndah-Logo.jpg
END:VEVENT
BEGIN:VEVENT
DTSTART;VALUE=DATE:20260313
DTEND;VALUE=DATE:20260314
DTSTAMP:20260423T213459
CREATED:20260209T110800Z
LAST-MODIFIED:20260209T110807Z
UID:2324-1773360000-1773446399@www.qvgu.com.au
SUMMARY:Biloela Open
DESCRIPTION:
URL:https://www.qvgu.com.au/event/biloela-open/
LOCATION:Biloela Golf Club\, 451 Valentine Plains Road\, Biloela\, Qld\, 4715\, Australia
CATEGORIES:Tournaments
ATTACH;FMTTYPE=image/jpeg:https://www.qvgu.com.au/wp-content/uploads/2026/02/Biloela-Logo.jpg
END:VEVENT
BEGIN:VEVENT
DTSTART;VALUE=DATE:20260324
DTEND;VALUE=DATE:20260325
DTSTAMP:20260423T213459
CREATED:20251126T013835Z
LAST-MODIFIED:20251126T024047Z
UID:2143-1774310400-1774396799@www.qvgu.com.au
SUMMARY:Isis Open
DESCRIPTION:
URL:https://www.qvgu.com.au/event/isis-open/
LOCATION:Isis Golf Club\, Goodwood Road\, Doolbi\, QLD\, 4660\, Australia
CATEGORIES:Tournaments
ATTACH;FMTTYPE=image/jpeg:https://www.qvgu.com.au/wp-content/uploads/2025/11/Isis-Golf-Club-1st-Hole-1.jpg
END:VEVENT
BEGIN:VEVENT
DTSTART;VALUE=DATE:20260327
DTEND;VALUE=DATE:20260328
DTSTAMP:20260423T213459
CREATED:20260209T111423Z
LAST-MODIFIED:20260209T111423Z
UID:2328-1774569600-1774655999@www.qvgu.com.au
SUMMARY:Monto Open
DESCRIPTION:
URL:https://www.qvgu.com.au/event/monto-open/
LOCATION:Monto Golf Club\, 9 Rifle Range Road\, Monto\, Qld\, 4630\, Australia
CATEGORIES:Tournaments
ATTACH;FMTTYPE=image/jpeg:https://www.qvgu.com.au/wp-content/uploads/2026/02/Monto-Logo.jpg
END:VEVENT
BEGIN:VEVENT
DTSTART;VALUE=DATE:20260407
DTEND;VALUE=DATE:20260408
DTSTAMP:20260423T213459
CREATED:20251126T014940Z
LAST-MODIFIED:20260314T225932Z
UID:2146-1775520000-1775606399@www.qvgu.com.au
SUMMARY:Maryborough Open
DESCRIPTION:Open Flyer – Click Here \nTo Nominate please click here:- Nomination Form
URL:https://www.qvgu.com.au/event/maryborough-open/
LOCATION:Maryborough Golf Club\, 239 Queen Street\, Maryborough\, QLD\, 4650\, Australia
CATEGORIES:Tournaments
ATTACH;FMTTYPE=image/png:https://www.qvgu.com.au/wp-content/uploads/2025/11/Mboro-Logo.png
END:VEVENT
BEGIN:VEVENT
DTSTART;VALUE=DATE:20260414
DTEND;VALUE=DATE:20260416
DTSTAMP:20260423T213459
CREATED:20260314T225334Z
LAST-MODIFIED:20260314T230003Z
UID:2432-1776124800-1776297599@www.qvgu.com.au
SUMMARY:Gayndah Open & 4BBB
DESCRIPTION:Gayndah Open – Tuesday 14th April \n4BBB Comp – Wednesday 15th April \nFor more information and Nomination details – Click Here
URL:https://www.qvgu.com.au/event/gayndah-open-4bbb/
LOCATION:Gayndah Golf Club\, Nanango Road\, Gayndah\, QLD\, 4625\, Australia
CATEGORIES:Tournaments
ATTACH;FMTTYPE=image/jpeg:https://www.qvgu.com.au/wp-content/uploads/2025/11/Gayndah-Logo.jpg
END:VEVENT
BEGIN:VEVENT
DTSTART;VALUE=DATE:20260427
DTEND;VALUE=DATE:20260428
DTSTAMP:20260423T213459
CREATED:20251126T015710Z
LAST-MODIFIED:20260314T230029Z
UID:2149-1777248000-1777334399@www.qvgu.com.au
SUMMARY:Hervey Bay Open
DESCRIPTION:For more information and Nomination details – Click Here
URL:https://www.qvgu.com.au/event/hervey-bay-open/
LOCATION:Hervey Bay Golf Club\, Tooth Street\, Pialba\, QLD\, 4655\, Australia
CATEGORIES:Tournaments
ATTACH;FMTTYPE=image/webp:https://www.qvgu.com.au/wp-content/uploads/2025/11/Hervey-Bay-Vets.webp
END:VEVENT
BEGIN:VEVENT
DTSTART;VALUE=DATE:20260511
DTEND;VALUE=DATE:20260513
DTSTAMP:20260423T213459
CREATED:20251126T031201Z
LAST-MODIFIED:20260305T033823Z
UID:2162-1778457600-1778630399@www.qvgu.com.au
SUMMARY:Q.V.G.U. State Championships
DESCRIPTION:Contact for the event is Ed Berry – maroochyvets@gmail.com or 07 5448 9414. \nNomination Form & Conditions of Play is now available – Please Click Here \n 
URL:https://www.qvgu.com.au/event/q-v-g-u-state-championships/
LOCATION:Maroochy River Golf Club\, 347 David Low Way\, Bli Bli\, Qld\, 4560\, Australia
CATEGORIES:Championships
ATTACH;FMTTYPE=image/jpeg:https://www.qvgu.com.au/wp-content/uploads/2025/11/Maroochy-River-Golf-Clubhouse-18th-Green.jpg
END:VEVENT
BEGIN:VEVENT
DTSTART;VALUE=DATE:20260512
DTEND;VALUE=DATE:20260513
DTSTAMP:20260423T213459
CREATED:20251126T034835Z
LAST-MODIFIED:20260227T105713Z
UID:2178-1778544000-1778630399@www.qvgu.com.au
SUMMARY:Bargara Open
DESCRIPTION:
URL:https://www.qvgu.com.au/event/bargara-open-2/
LOCATION:Bargara Golf Club\, 120 Miller Street\, Bargara\, Queensland\, 4670\, Australia
CATEGORIES:Tournaments
ATTACH;FMTTYPE=image/webp:https://www.qvgu.com.au/wp-content/uploads/2025/11/bargara-logo-2.webp
END:VEVENT
BEGIN:VEVENT
DTSTART;VALUE=DATE:20260512
DTEND;VALUE=DATE:20260513
DTSTAMP:20260423T213459
CREATED:20251209T095657Z
LAST-MODIFIED:20251209T095902Z
UID:2222-1778544000-1778630399@www.qvgu.com.au
SUMMARY:Tropics Open
DESCRIPTION:
URL:https://www.qvgu.com.au/event/tropics-open-2/
LOCATION:Tropics Golf Club\, 16 Nineteenth Avenue\, Kirwan\, Qld\, 4817\, Australia
CATEGORIES:Tournaments
ATTACH;FMTTYPE=image/webp:https://www.qvgu.com.au/wp-content/uploads/2025/12/Tropics-Golf-Club.webp
END:VEVENT
BEGIN:VEVENT
DTSTART;VALUE=DATE:20260518
DTEND;VALUE=DATE:20260519
DTSTAMP:20260423T213459
CREATED:20260209T105310Z
LAST-MODIFIED:20260410T053953Z
UID:2318-1779062400-1779148799@www.qvgu.com.au
SUMMARY:Gladstone Open
DESCRIPTION:For more information – Please Click Here
URL:https://www.qvgu.com.au/event/gladstone-open-2/
LOCATION:Gladstone Golf Club\, Hickory Avenue\, Gladstone\, Qld\, 4680\, Australia
CATEGORIES:Tournaments
ATTACH;FMTTYPE=image/png:https://www.qvgu.com.au/wp-content/uploads/2025/12/Gladstone-Logo.png
END:VEVENT
BEGIN:VEVENT
DTSTART;VALUE=DATE:20260518
DTEND;VALUE=DATE:20260519
DTSTAMP:20260423T213459
CREATED:20260213T231942Z
LAST-MODIFIED:20260213T231947Z
UID:2349-1779062400-1779148799@www.qvgu.com.au
SUMMARY:Beaudesert Open
DESCRIPTION:
URL:https://www.qvgu.com.au/event/beaudesert-open/
LOCATION:Beaudesert Golf Club\, 135 Kerry Road\, Beaudesert\, Qld\, 4285\, Australia
CATEGORIES:Tournaments
ATTACH;FMTTYPE=image/png:https://www.qvgu.com.au/wp-content/uploads/2026/02/Beaudesert-Logo.png
END:VEVENT
BEGIN:VEVENT
DTSTART;VALUE=DATE:20260526
DTEND;VALUE=DATE:20260527
DTSTAMP:20260423T213459
CREATED:20251126T034521Z
LAST-MODIFIED:20251126T040834Z
UID:2174-1779753600-1779839999@www.qvgu.com.au
SUMMARY:Bundaberg Open
DESCRIPTION:
URL:https://www.qvgu.com.au/event/bundaberg-open-2/
LOCATION:Bundaberg Golf Club\, 22 One Mile Road\, North Bundaberg\, Qld\, 4670\, Australia
CATEGORIES:Tournaments
ATTACH;FMTTYPE=image/jpeg:https://www.qvgu.com.au/wp-content/uploads/2025/11/Bundaberg-Golf-Club.jpg
END:VEVENT
BEGIN:VEVENT
DTSTART;VALUE=DATE:20260609
DTEND;VALUE=DATE:20260610
DTSTAMP:20260423T213459
CREATED:20260209T112559Z
LAST-MODIFIED:20260209T112559Z
UID:2332-1780963200-1781049599@www.qvgu.com.au
SUMMARY:Miriam Vale Open
DESCRIPTION:
URL:https://www.qvgu.com.au/event/miriam-vale-open-2/
LOCATION:Miriam Vale Golf Club\, 21 Claude Wharton Drive\, Miriam Vale\, Qld\, 4677\, Australia
CATEGORIES:Tournaments
ATTACH;FMTTYPE=image/jpeg:https://www.qvgu.com.au/wp-content/uploads/2026/02/Miriam-Vale.jpg
END:VEVENT
BEGIN:VEVENT
DTSTART;VALUE=DATE:20260611
DTEND;VALUE=DATE:20260612
DTSTAMP:20260423T213459
CREATED:20251126T035004Z
LAST-MODIFIED:20251211T104432Z
UID:2181-1781136000-1781222399@www.qvgu.com.au
SUMMARY:Gin Gin Open
DESCRIPTION:
URL:https://www.qvgu.com.au/event/gin-gin-open-2/
LOCATION:Gin Gin Golf Club\, Bundaberg Road\, Gin Gin\, Qld\, 4671\, Australia
CATEGORIES:Tournaments
ATTACH;FMTTYPE=image/gif:https://www.qvgu.com.au/wp-content/uploads/2025/11/Gin-Gin-Logo.gif
END:VEVENT
BEGIN:VEVENT
DTSTART;VALUE=DATE:20260616
DTEND;VALUE=DATE:20260617
DTSTAMP:20260423T213459
CREATED:20251209T095442Z
LAST-MODIFIED:20251209T100156Z
UID:2218-1781568000-1781654399@www.qvgu.com.au
SUMMARY:Rowes Bay Open
DESCRIPTION:
URL:https://www.qvgu.com.au/event/rowes-bay-open-2/
LOCATION:Rowes Bay Golf Club\, Emmerson Street\, Rowes Bay\, Qld\, 4810\, Australia
CATEGORIES:Tournaments
ATTACH;FMTTYPE=image/webp:https://www.qvgu.com.au/wp-content/uploads/2025/12/Rowes-Bay-Golf-Club.webp
END:VEVENT
BEGIN:VEVENT
DTSTART;VALUE=DATE:20260623
DTEND;VALUE=DATE:20260624
DTSTAMP:20260423T213459
CREATED:20251126T035236Z
LAST-MODIFIED:20251126T040821Z
UID:2183-1782172800-1782259199@www.qvgu.com.au
SUMMARY:Coral Cove Open
DESCRIPTION:
URL:https://www.qvgu.com.au/event/coral-cove-open/
LOCATION:Coral Cove Golf Club\, 1 Pebble Beach Drive\, Coral Cove\, Qld\, 4670\, Australia
CATEGORIES:Tournaments
ATTACH;FMTTYPE=image/jpeg:https://www.qvgu.com.au/wp-content/uploads/2025/11/Coral-Cove-2nd-Green.jpg
END:VEVENT
BEGIN:VEVENT
DTSTART;VALUE=DATE:20260706
DTEND;VALUE=DATE:20260708
DTSTAMP:20260423T213459
CREATED:20251126T035415Z
LAST-MODIFIED:20260304T024937Z
UID:2186-1783296000-1783468799@www.qvgu.com.au
SUMMARY:Maryborough 2 Day Open
DESCRIPTION:
URL:https://www.qvgu.com.au/event/maryborough-2-day-open/
LOCATION:Maryborough Golf Club\, 239 Queen Street\, Maryborough\, QLD\, 4650\, Australia
CATEGORIES:Tournaments
ATTACH;FMTTYPE=image/png:https://www.qvgu.com.au/wp-content/uploads/2025/11/Mboro-Logo.png
END:VEVENT
BEGIN:VEVENT
DTSTART;VALUE=DATE:20260713
DTEND;VALUE=DATE:20260714
DTSTAMP:20260423T213459
CREATED:20251209T095055Z
LAST-MODIFIED:20251209T100059Z
UID:2214-1783900800-1783987199@www.qvgu.com.au
SUMMARY:Townsville Open
DESCRIPTION:
URL:https://www.qvgu.com.au/event/townsville-open-2/
LOCATION:Townsville Golf Club\, Lindsay Street\, Rosslea\, QLD\, 4810\, Australia
CATEGORIES:Tournaments
ATTACH;FMTTYPE=image/webp:https://www.qvgu.com.au/wp-content/uploads/2025/12/Townsville-Golf-Club.webp
END:VEVENT
BEGIN:VEVENT
DTSTART;VALUE=DATE:20260713
DTEND;VALUE=DATE:20260716
DTSTAMP:20260423T213459
CREATED:20260211T061337Z
LAST-MODIFIED:20260211T061341Z
UID:2340-1783900800-1784159999@www.qvgu.com.au
SUMMARY:Ingham Open
DESCRIPTION:
URL:https://www.qvgu.com.au/event/ingham-open-2/
LOCATION:Ingham Golf Club\, 67 Marina Parade\, Ingham\, Qld\, 4850\, Australia
CATEGORIES:Tournaments
END:VEVENT
BEGIN:VEVENT
DTSTART;VALUE=DATE:20260716
DTEND;VALUE=DATE:20260717
DTSTAMP:20260423T213459
CREATED:20260208T124150Z
LAST-MODIFIED:20260208T124150Z
UID:2313-1784160000-1784246399@www.qvgu.com.au
SUMMARY:Calliope Open
DESCRIPTION:
URL:https://www.qvgu.com.au/event/calliope-open-2/
LOCATION:Calliope District Golf Club\, Stowe Rd\, River Ranch\, QLD\, 4680\, Australia
CATEGORIES:Tournaments
ATTACH;FMTTYPE=image/webp:https://www.qvgu.com.au/wp-content/uploads/2026/02/Calliope-Logo.webp
END:VEVENT
BEGIN:VEVENT
DTSTART;VALUE=DATE:20260728
DTEND;VALUE=DATE:20260729
DTSTAMP:20260423T213459
CREATED:20251126T114948Z
LAST-MODIFIED:20260201T001626Z
UID:2209-1785196800-1785283199@www.qvgu.com.au
SUMMARY:Burrum Open
DESCRIPTION:
URL:https://www.qvgu.com.au/event/burrum-open-2/
LOCATION:Burrum Golf Club\, 14 Gregory Street\, Howard\, Qld\, 4569\, Australia
CATEGORIES:Tournaments
ATTACH;FMTTYPE=image/png:https://www.qvgu.com.au/wp-content/uploads/2025/11/Burrum.png
END:VEVENT
BEGIN:VEVENT
DTSTART;TZID=Australia/Brisbane:20260730T080000
DTEND;TZID=Australia/Brisbane:20260731T170000
DTSTAMP:20260423T213459
CREATED:20260201T000954Z
LAST-MODIFIED:20260201T001609Z
UID:2275-1785398400-1785517200@www.qvgu.com.au
SUMMARY:Sarina Open
DESCRIPTION:
URL:https://www.qvgu.com.au/event/sarina-open/
LOCATION:Sarina Golf Club\, 72 Golf Course Road\, Sarina\, Qld\, 4737\, Australia
CATEGORIES:Tournaments
ATTACH;FMTTYPE=image/jpeg:https://www.qvgu.com.au/wp-content/uploads/2026/02/Sarina-Golf-Club.jpg
END:VEVENT
BEGIN:VEVENT
DTSTART;VALUE=DATE:20260810
DTEND;VALUE=DATE:20260812
DTSTAMP:20260423T213459
CREATED:20260201T002847Z
LAST-MODIFIED:20260213T233248Z
UID:2283-1786320000-1786492799@www.qvgu.com.au
SUMMARY:Mackay Open
DESCRIPTION:These two days are part of “Wintersun” which is conducted in the Mackay Area from 3rd to 11th August 2026. \nGames are held at Proserpine\, Sarina\, Pioneer Valley & Mackay Clubs.  See https://www.mackayveteransgolf.org.au/wintersun_redo/ for more information.
URL:https://www.qvgu.com.au/event/mackay-open/
LOCATION:Mackay Golf Club\, Mackay Bucasia Road\, Beaconsfield\, Qld\, 4740\, Australia
CATEGORIES:District Open Events
ATTACH;FMTTYPE=image/jpeg:https://www.qvgu.com.au/wp-content/uploads/2026/02/Mackay-Clubhouse.jpg
END:VEVENT
BEGIN:VEVENT
DTSTART;VALUE=DATE:20260811
DTEND;VALUE=DATE:20260812
DTSTAMP:20260423T213459
CREATED:20251126T112900Z
LAST-MODIFIED:20251126T112900Z
UID:2207-1786406400-1786492799@www.qvgu.com.au
SUMMARY:W.B.D.V.G.A. 4BBB Closed Championships
DESCRIPTION:
URL:https://www.qvgu.com.au/event/w-b-d-v-g-a-4bbb-closed-championships-2/
LOCATION:Isis Golf Club\, Goodwood Road\, Doolbi\, QLD\, 4660\, Australia
CATEGORIES:Tournaments
ATTACH;FMTTYPE=image/jpeg:https://www.qvgu.com.au/wp-content/uploads/2025/11/Isis-Golf-Club-1st-Hole-1.jpg
END:VEVENT
END:VCALENDAR