BEGIN:VCALENDAR
VERSION:2.0
PRODID:-//Queensland Veteran Golf Union - ECPv6.13.2.1//NONSGML v1.0//EN
CALSCALE:GREGORIAN
METHOD:PUBLISH
X-WR-CALNAME:Queensland Veteran Golf Union
X-ORIGINAL-URL:https://www.qvgu.com.au
X-WR-CALDESC:Events for Queensland Veteran Golf Union
REFRESH-INTERVAL;VALUE=DURATION:PT1H
X-Robots-Tag:noindex
X-PUBLISHED-TTL:PT1H
BEGIN:VTIMEZONE
TZID:Australia/Brisbane
BEGIN:STANDARD
TZOFFSETFROM:+1000
TZOFFSETTO:+1000
TZNAME:AEST
DTSTART:20250101T000000
END:STANDARD
END:VTIMEZONE
BEGIN:VEVENT
DTSTART;VALUE=DATE:20250531
DTEND;VALUE=DATE:20250601
DTSTAMP:20260424T060207
CREATED:20250507T073604Z
LAST-MODIFIED:20250507T073604Z
UID:1823-1748649600-1748735999@www.qvgu.com.au
SUMMARY:Bowen Ladies Open
DESCRIPTION:
URL:https://www.qvgu.com.au/event/bowen-ladies-open/
LOCATION:Qld
CATEGORIES:District Open Events
END:VEVENT
BEGIN:VEVENT
DTSTART;VALUE=DATE:20250520
DTEND;VALUE=DATE:20250521
DTSTAMP:20260424T060207
CREATED:20250507T073534Z
LAST-MODIFIED:20250507T073534Z
UID:1820-1747699200-1747785599@www.qvgu.com.au
SUMMARY:Bargara Open
DESCRIPTION:
URL:https://www.qvgu.com.au/event/bargara-open/
LOCATION:Qld
CATEGORIES:District Open Events
END:VEVENT
BEGIN:VEVENT
DTSTART;VALUE=DATE:20250519
DTEND;VALUE=DATE:20250520
DTSTAMP:20260424T060207
CREATED:20250507T073457Z
LAST-MODIFIED:20250507T073457Z
UID:1818-1747612800-1747699199@www.qvgu.com.au
SUMMARY:Townsville Open
DESCRIPTION:
URL:https://www.qvgu.com.au/event/townsville-open/
LOCATION:Qld
CATEGORIES:District Open Events
END:VEVENT
BEGIN:VEVENT
DTSTART;VALUE=DATE:20250513
DTEND;VALUE=DATE:20250514
DTSTAMP:20260424T060207
CREATED:20250507T073440Z
LAST-MODIFIED:20250507T073440Z
UID:1816-1747094400-1747180799@www.qvgu.com.au
SUMMARY:Tropics Open
DESCRIPTION:
URL:https://www.qvgu.com.au/event/tropics-open/
LOCATION:Qld
CATEGORIES:District Open Events
END:VEVENT
BEGIN:VEVENT
DTSTART;VALUE=DATE:20250513
DTEND;VALUE=DATE:20250514
DTSTAMP:20260424T060207
CREATED:20250507T073420Z
LAST-MODIFIED:20250507T073917Z
UID:1813-1747094400-1747180799@www.qvgu.com.au
SUMMARY:Bundaberg Open
DESCRIPTION:
URL:https://www.qvgu.com.au/event/bundaberg-open/
LOCATION:Qld
CATEGORIES:District Open Events
END:VEVENT
BEGIN:VEVENT
DTSTART;VALUE=DATE:20250512
DTEND;VALUE=DATE:20250513
DTSTAMP:20260424T060207
CREATED:20250507T073332Z
LAST-MODIFIED:20250507T073332Z
UID:1811-1747008000-1747094399@www.qvgu.com.au
SUMMARY:Gladstone Open
DESCRIPTION:
URL:https://www.qvgu.com.au/event/gladstone-open/
LOCATION:Qld
CATEGORIES:District Open Events
END:VEVENT
BEGIN:VEVENT
DTSTART;VALUE=DATE:20250510
DTEND;VALUE=DATE:20250511
DTSTAMP:20260424T060207
CREATED:20250507T073313Z
LAST-MODIFIED:20250618T003645Z
UID:1809-1746835200-1746921599@www.qvgu.com.au
SUMMARY:Bowen Men’s Open
DESCRIPTION:
URL:https://www.qvgu.com.au/event/bowen-mens-open/
LOCATION:Qld
CATEGORIES:District Open Events
END:VEVENT
END:VCALENDAR