BEGIN:VCALENDAR
VERSION:2.0
PRODID:-//Queensland Veteran Golf Union - ECPv6.13.2.1//NONSGML v1.0//EN
CALSCALE:GREGORIAN
METHOD:PUBLISH
X-WR-CALNAME:Queensland Veteran Golf Union
X-ORIGINAL-URL:https://www.qvgu.com.au
X-WR-CALDESC:Events for Queensland Veteran Golf Union
REFRESH-INTERVAL;VALUE=DURATION:PT1H
X-Robots-Tag:noindex
X-PUBLISHED-TTL:PT1H
BEGIN:VTIMEZONE
TZID:Australia/Brisbane
BEGIN:STANDARD
TZOFFSETFROM:+1000
TZOFFSETTO:+1000
TZNAME:AEST
DTSTART:20250101T000000
END:STANDARD
END:VTIMEZONE
BEGIN:VEVENT
DTSTART;VALUE=DATE:20251020
DTEND;VALUE=DATE:20251022
DTSTAMP:20260423T070229
CREATED:20250507T063409Z
LAST-MODIFIED:20250619T004614Z
UID:1795-1760918400-1761091199@www.qvgu.com.au
SUMMARY:Q.V.G.U. State Carnival – Bargara
DESCRIPTION:Nomination Form now available – See Championship Page for more details.
URL:https://www.qvgu.com.au/event/q-v-g-u-state-carnival-bargara/
LOCATION:Bargara Golf Club\, 120 Miller Street\, Bargara\, Queensland\, 4670\, Australia
CATEGORIES:Championships
ORGANIZER;CN="Sue Gaylard":MAILTO:bargaraveterangolfers@outlook.com
END:VEVENT
END:VCALENDAR