BEGIN:VCALENDAR
VERSION:2.0
PRODID:-//Queensland Veteran Golf Union - ECPv6.13.2.1//NONSGML v1.0//EN
CALSCALE:GREGORIAN
METHOD:PUBLISH
X-ORIGINAL-URL:https://www.qvgu.com.au
X-WR-CALDESC:Events for Queensland Veteran Golf Union
REFRESH-INTERVAL;VALUE=DURATION:PT1H
X-Robots-Tag:noindex
X-PUBLISHED-TTL:PT1H
BEGIN:VTIMEZONE
TZID:Australia/Brisbane
BEGIN:STANDARD
TZOFFSETFROM:+1000
TZOFFSETTO:+1000
TZNAME:AEST
DTSTART:20260101T000000
END:STANDARD
END:VTIMEZONE
BEGIN:VEVENT
DTSTART;VALUE=DATE:20260511
DTEND;VALUE=DATE:20260513
DTSTAMP:20260423T224913
CREATED:20251126T031201Z
LAST-MODIFIED:20260305T033823Z
UID:2162-1778457600-1778630399@www.qvgu.com.au
SUMMARY:Q.V.G.U. State Championships
DESCRIPTION:Contact for the event is Ed Berry – maroochyvets@gmail.com or 07 5448 9414. \nNomination Form & Conditions of Play is now available – Please Click Here \n 
URL:https://www.qvgu.com.au/event/q-v-g-u-state-championships/
LOCATION:Maroochy River Golf Club\, 347 David Low Way\, Bli Bli\, Qld\, 4560\, Australia
CATEGORIES:Championships
ATTACH;FMTTYPE=image/jpeg:https://www.qvgu.com.au/wp-content/uploads/2025/11/Maroochy-River-Golf-Clubhouse-18th-Green.jpg
END:VEVENT
BEGIN:VEVENT
DTSTART;VALUE=DATE:20260512
DTEND;VALUE=DATE:20260513
DTSTAMP:20260423T224913
CREATED:20251126T034835Z
LAST-MODIFIED:20260227T105713Z
UID:2178-1778544000-1778630399@www.qvgu.com.au
SUMMARY:Bargara Open
DESCRIPTION:
URL:https://www.qvgu.com.au/event/bargara-open-2/
LOCATION:Bargara Golf Club\, 120 Miller Street\, Bargara\, Queensland\, 4670\, Australia
CATEGORIES:Tournaments
ATTACH;FMTTYPE=image/webp:https://www.qvgu.com.au/wp-content/uploads/2025/11/bargara-logo-2.webp
END:VEVENT
BEGIN:VEVENT
DTSTART;VALUE=DATE:20260512
DTEND;VALUE=DATE:20260513
DTSTAMP:20260423T224913
CREATED:20251209T095657Z
LAST-MODIFIED:20251209T095902Z
UID:2222-1778544000-1778630399@www.qvgu.com.au
SUMMARY:Tropics Open
DESCRIPTION:
URL:https://www.qvgu.com.au/event/tropics-open-2/
LOCATION:Tropics Golf Club\, 16 Nineteenth Avenue\, Kirwan\, Qld\, 4817\, Australia
CATEGORIES:Tournaments
ATTACH;FMTTYPE=image/webp:https://www.qvgu.com.au/wp-content/uploads/2025/12/Tropics-Golf-Club.webp
END:VEVENT
BEGIN:VEVENT
DTSTART;VALUE=DATE:20260518
DTEND;VALUE=DATE:20260519
DTSTAMP:20260423T224913
CREATED:20260209T105310Z
LAST-MODIFIED:20260410T053953Z
UID:2318-1779062400-1779148799@www.qvgu.com.au
SUMMARY:Gladstone Open
DESCRIPTION:For more information – Please Click Here
URL:https://www.qvgu.com.au/event/gladstone-open-2/
LOCATION:Gladstone Golf Club\, Hickory Avenue\, Gladstone\, Qld\, 4680\, Australia
CATEGORIES:Tournaments
ATTACH;FMTTYPE=image/png:https://www.qvgu.com.au/wp-content/uploads/2025/12/Gladstone-Logo.png
END:VEVENT
BEGIN:VEVENT
DTSTART;VALUE=DATE:20260518
DTEND;VALUE=DATE:20260519
DTSTAMP:20260423T224913
CREATED:20260213T231942Z
LAST-MODIFIED:20260213T231947Z
UID:2349-1779062400-1779148799@www.qvgu.com.au
SUMMARY:Beaudesert Open
DESCRIPTION:
URL:https://www.qvgu.com.au/event/beaudesert-open/
LOCATION:Beaudesert Golf Club\, 135 Kerry Road\, Beaudesert\, Qld\, 4285\, Australia
CATEGORIES:Tournaments
ATTACH;FMTTYPE=image/png:https://www.qvgu.com.au/wp-content/uploads/2026/02/Beaudesert-Logo.png
END:VEVENT
BEGIN:VEVENT
DTSTART;VALUE=DATE:20260526
DTEND;VALUE=DATE:20260527
DTSTAMP:20260423T224913
CREATED:20251126T034521Z
LAST-MODIFIED:20251126T040834Z
UID:2174-1779753600-1779839999@www.qvgu.com.au
SUMMARY:Bundaberg Open
DESCRIPTION:
URL:https://www.qvgu.com.au/event/bundaberg-open-2/
LOCATION:Bundaberg Golf Club\, 22 One Mile Road\, North Bundaberg\, Qld\, 4670\, Australia
CATEGORIES:Tournaments
ATTACH;FMTTYPE=image/jpeg:https://www.qvgu.com.au/wp-content/uploads/2025/11/Bundaberg-Golf-Club.jpg
END:VEVENT
END:VCALENDAR